BEGIN:VCALENDAR
VERSION:2.0
PRODID:-//Iron Indian Riders Australia - ECPv6.15.20//NONSGML v1.0//EN
CALSCALE:GREGORIAN
METHOD:PUBLISH
X-ORIGINAL-URL:https://ironindian.com.au
X-WR-CALDESC:Events for Iron Indian Riders Australia
REFRESH-INTERVAL;VALUE=DURATION:PT1H
X-Robots-Tag:noindex
X-PUBLISHED-TTL:PT1H
BEGIN:VTIMEZONE
TZID:Australia/Melbourne
BEGIN:STANDARD
TZOFFSETFROM:+1100
TZOFFSETTO:+1000
TZNAME:AEST
DTSTART:20230401T160000
END:STANDARD
BEGIN:DAYLIGHT
TZOFFSETFROM:+1000
TZOFFSETTO:+1100
TZNAME:AEDT
DTSTART:20230930T160000
END:DAYLIGHT
BEGIN:STANDARD
TZOFFSETFROM:+1100
TZOFFSETTO:+1000
TZNAME:AEST
DTSTART:20240406T160000
END:STANDARD
BEGIN:DAYLIGHT
TZOFFSETFROM:+1000
TZOFFSETTO:+1100
TZNAME:AEDT
DTSTART:20241005T160000
END:DAYLIGHT
BEGIN:STANDARD
TZOFFSETFROM:+1100
TZOFFSETTO:+1000
TZNAME:AEST
DTSTART:20250405T160000
END:STANDARD
BEGIN:DAYLIGHT
TZOFFSETFROM:+1000
TZOFFSETTO:+1100
TZNAME:AEDT
DTSTART:20251004T160000
END:DAYLIGHT
END:VTIMEZONE
BEGIN:VEVENT
DTSTART;TZID=Australia/Melbourne:20240211T103000
DTEND;TZID=Australia/Melbourne:20240211T140000
DTSTAMP:20260422T184115
CREATED:20240111T111459Z
LAST-MODIFIED:20240208T055922Z
UID:22185-1707647400-1707660000@ironindian.com.au
SUMMARY:Hanging Rock Show and shine
DESCRIPTION:A great day out organised by the Macedon Car club hundreds of vehicles on display and food available. Bookings can be made on line or paid at entrance\, meet at BP service station Calder Park  9-30 for a punctual 10-00 departure
URL:https://ironindian.com.au/event/hanging-rock-show-and-shine/
LOCATION:BP Servo Calder Park\, 937 Calder Fwy\, Calder Park\, Victoria\, 3037\, Australia
CATEGORIES:Ride Days
END:VEVENT
END:VCALENDAR