BEGIN:VCALENDAR
VERSION:2.0
PRODID:-//Iron Indian Riders Australia - ECPv6.15.20//NONSGML v1.0//EN
CALSCALE:GREGORIAN
METHOD:PUBLISH
X-ORIGINAL-URL:https://ironindian.com.au
X-WR-CALDESC:Events for Iron Indian Riders Australia
REFRESH-INTERVAL;VALUE=DURATION:PT1H
X-Robots-Tag:noindex
X-PUBLISHED-TTL:PT1H
BEGIN:VTIMEZONE
TZID:Australia/Melbourne
BEGIN:STANDARD
TZOFFSETFROM:+1100
TZOFFSETTO:+1000
TZNAME:AEST
DTSTART:20240406T160000
END:STANDARD
BEGIN:DAYLIGHT
TZOFFSETFROM:+1000
TZOFFSETTO:+1100
TZNAME:AEDT
DTSTART:20241005T160000
END:DAYLIGHT
BEGIN:STANDARD
TZOFFSETFROM:+1100
TZOFFSETTO:+1000
TZNAME:AEST
DTSTART:20250405T160000
END:STANDARD
BEGIN:DAYLIGHT
TZOFFSETFROM:+1000
TZOFFSETTO:+1100
TZNAME:AEDT
DTSTART:20251004T160000
END:DAYLIGHT
BEGIN:STANDARD
TZOFFSETFROM:+1100
TZOFFSETTO:+1000
TZNAME:AEST
DTSTART:20260404T160000
END:STANDARD
BEGIN:DAYLIGHT
TZOFFSETFROM:+1000
TZOFFSETTO:+1100
TZNAME:AEDT
DTSTART:20261003T160000
END:DAYLIGHT
END:VTIMEZONE
BEGIN:VEVENT
DTSTART;TZID=Australia/Melbourne:20250729T080000
DTEND;TZID=Australia/Melbourne:20250729T213000
DTSTAMP:20260422T201811
CREATED:20250726T045007Z
LAST-MODIFIED:20250726T045036Z
UID:22747-1753776000-1753824600@ironindian.com.au
SUMMARY:AGM and Subs\, Crazy Horse Rally
DESCRIPTION:First things first\, the AGM is on this coming Tuesday night 29th\, it starts off at the Grandview Hotel Alphington  8.00pm and if you want a meal be there early 7.00 as we don’t want meals being eaten during this important meeting\, things that will happen are all officials will vacate their positions and any nominations will be up for a change of committee\, we need a change of scenery so please nominate for a role. The next thing is Annual subs if you are not financial you can’t vote and your bike will be effectively under the VicRoads permit scheme  unrideable as it has no 3rd party TAC cover! About half of our members have paid already please DO NOT pay your subs at the meeting as it will not be accepted\, pay online as I don’t get to the bank often with CASH\, All financial members will receive a free beanie of the value of $25 IF YOU ATTEND THE MEETING! \nNext Sundays Quarterly Ride 3rd August will be dependent on Melbourne weather it will start off at U-GO service Station Mill Park and go to Flowerdale Pub for lunch\, the Rides for The Crazy Horse Rally have been listed for  Sept 12-14 Friday\, Saturday & Sunday its 6 weeks off and accomodation is tight at the Railway Motel 0423220810\, please book NOW. \n 
URL:https://ironindian.com.au/event/agm-and-subs/
LOCATION:Grandview Hotel Fairfield\, 429 Heidleberg rd\, Fairfield\, 3078\, Australia
END:VEVENT
END:VCALENDAR