BEGIN:VCALENDAR
VERSION:2.0
PRODID:-//Iron Indian Riders Australia - ECPv6.15.20//NONSGML v1.0//EN
CALSCALE:GREGORIAN
METHOD:PUBLISH
X-ORIGINAL-URL:https://ironindian.com.au
X-WR-CALDESC:Events for Iron Indian Riders Australia
REFRESH-INTERVAL;VALUE=DURATION:PT1H
X-Robots-Tag:noindex
X-PUBLISHED-TTL:PT1H
BEGIN:VTIMEZONE
TZID:Australia/Melbourne
BEGIN:STANDARD
TZOFFSETFROM:+1100
TZOFFSETTO:+1000
TZNAME:AEST
DTSTART:20230401T160000
END:STANDARD
BEGIN:DAYLIGHT
TZOFFSETFROM:+1000
TZOFFSETTO:+1100
TZNAME:AEDT
DTSTART:20230930T160000
END:DAYLIGHT
BEGIN:STANDARD
TZOFFSETFROM:+1100
TZOFFSETTO:+1000
TZNAME:AEST
DTSTART:20240406T160000
END:STANDARD
BEGIN:DAYLIGHT
TZOFFSETFROM:+1000
TZOFFSETTO:+1100
TZNAME:AEDT
DTSTART:20241005T160000
END:DAYLIGHT
BEGIN:STANDARD
TZOFFSETFROM:+1100
TZOFFSETTO:+1000
TZNAME:AEST
DTSTART:20250405T160000
END:STANDARD
BEGIN:DAYLIGHT
TZOFFSETFROM:+1000
TZOFFSETTO:+1100
TZNAME:AEDT
DTSTART:20251004T160000
END:DAYLIGHT
END:VTIMEZONE
BEGIN:VEVENT
DTSTART;TZID=Australia/Melbourne:20240730T200000
DTEND;TZID=Australia/Melbourne:20240730T213000
DTSTAMP:20260423T193706
CREATED:20240605T015309Z
LAST-MODIFIED:20240605T015952Z
UID:22294-1722369600-1722375000@ironindian.com.au
SUMMARY:AGM 2024
DESCRIPTION:Its that time of year when the AGM in on and hopefully some positions on the nomination form are filled particularly Treasurer and Rally co-ordinator\, the form is attached \n  \n  \nNomination Form
URL:https://ironindian.com.au/event/agm-2024/
LOCATION:Grandview Hotel Fairfield\, 429 Heidleberg rd\, Fairfield\, 3078\, Australia
CATEGORIES:Meetings
END:VEVENT
END:VCALENDAR