BEGIN:VCALENDAR
VERSION:2.0
PRODID:-//Iron Indian Riders Australia - ECPv6.15.20//NONSGML v1.0//EN
CALSCALE:GREGORIAN
METHOD:PUBLISH
X-ORIGINAL-URL:https://ironindian.com.au
X-WR-CALDESC:Events for Iron Indian Riders Australia
REFRESH-INTERVAL;VALUE=DURATION:PT1H
X-Robots-Tag:noindex
X-PUBLISHED-TTL:PT1H
BEGIN:VTIMEZONE
TZID:Australia/Melbourne
BEGIN:STANDARD
TZOFFSETFROM:+1100
TZOFFSETTO:+1000
TZNAME:AEST
DTSTART:20250405T160000
END:STANDARD
BEGIN:DAYLIGHT
TZOFFSETFROM:+1000
TZOFFSETTO:+1100
TZNAME:AEDT
DTSTART:20251004T160000
END:DAYLIGHT
BEGIN:STANDARD
TZOFFSETFROM:+1100
TZOFFSETTO:+1000
TZNAME:AEST
DTSTART:20260404T160000
END:STANDARD
BEGIN:DAYLIGHT
TZOFFSETFROM:+1000
TZOFFSETTO:+1100
TZNAME:AEDT
DTSTART:20261003T160000
END:DAYLIGHT
BEGIN:STANDARD
TZOFFSETFROM:+1100
TZOFFSETTO:+1000
TZNAME:AEST
DTSTART:20270403T160000
END:STANDARD
BEGIN:DAYLIGHT
TZOFFSETFROM:+1000
TZOFFSETTO:+1100
TZNAME:AEDT
DTSTART:20271002T160000
END:DAYLIGHT
END:VTIMEZONE
BEGIN:VEVENT
DTSTART;TZID=Australia/Melbourne:20260424T080000
DTEND;TZID=Australia/Melbourne:20260426T170000
DTSTAMP:20260422T151628
CREATED:20260106T234601Z
LAST-MODIFIED:20260401T052507Z
UID:22914-1777017600-1777222800@ironindian.com.au
SUMMARY:All British Rally Newstead 2026
DESCRIPTION:Meeting Point Maldon Town centre Midday 12.00 pm
URL:https://ironindian.com.au/event/all-british-rally-newstead-2026/
LOCATION:Newstead Racecourse\, Daylesford-Newstead rd\, Newstead\, Victoria\, 3462\, Australia
CATEGORIES:Special Event
END:VEVENT
BEGIN:VEVENT
DTSTART;TZID=Australia/Melbourne:20260428T193000
DTEND;TZID=Australia/Melbourne:20260428T210000
DTSTAMP:20260422T151628
CREATED:20260106T233701Z
LAST-MODIFIED:20260422T044040Z
UID:22905-1777404600-1777410000@ironindian.com.au
SUMMARY:General Meeting April 2026
DESCRIPTION:At the Grandview Hotel as usual 7.30pm for a 8.00pm start \nI expect a good turn up at the Grandview Hotel  as it will be the first meeting of the year\, the last meeting was cancelled  in February due to extreme weather 38C thats all behind us now except for fuel problems. Plenty of things to discuss about this years rallies and or club day rides
URL:https://ironindian.com.au/event/general-meeting-april-2026/
LOCATION:Grandview Hotel Fairfield\, 429 Heidleberg rd\, Fairfield\, 3078\, Australia
CATEGORIES:Meetings
END:VEVENT
BEGIN:VEVENT
DTSTART;TZID=Australia/Melbourne:20260728T200000
DTEND;TZID=Australia/Melbourne:20260728T213000
DTSTAMP:20260422T151628
CREATED:20260106T233952Z
LAST-MODIFIED:20260106T233952Z
UID:22908-1785268800-1785274200@ironindian.com.au
SUMMARY:Annual General Meeting
DESCRIPTION:AGM
URL:https://ironindian.com.au/event/annual-general-meeting/
LOCATION:Grandview Hotel Fairfield\, 429 Heidleberg rd\, Fairfield\, 3078\, Australia
CATEGORIES:AGM
END:VEVENT
BEGIN:VEVENT
DTSTART;TZID=Australia/Melbourne:20261027T200000
DTEND;TZID=Australia/Melbourne:20261027T213000
DTSTAMP:20260422T151628
CREATED:20260106T234137Z
LAST-MODIFIED:20260106T234137Z
UID:22911-1793131200-1793136600@ironindian.com.au
SUMMARY:General Meeting October
DESCRIPTION:
URL:https://ironindian.com.au/event/general-meeting-october/
LOCATION:Grandview Hotel Fairfield\, 429 Heidleberg rd\, Fairfield\, 3078\, Australia
CATEGORIES:Meetings
END:VEVENT
END:VCALENDAR